BEGIN:VCALENDAR
VERSION:2.0
PRODID:-//A4Tuleohutus O&Uuml; - ECPv6.15.20//NONSGML v1.0//EN
CALSCALE:GREGORIAN
METHOD:PUBLISH
X-ORIGINAL-URL:https://tuleohutuskoolitused.ee
X-WR-CALDESC:Events for A4Tuleohutus O&Uuml;
REFRESH-INTERVAL;VALUE=DURATION:PT1H
X-Robots-Tag:noindex
X-PUBLISHED-TTL:PT1H
BEGIN:VTIMEZONE
TZID:UTC
BEGIN:STANDARD
TZOFFSETFROM:+0000
TZOFFSETTO:+0000
TZNAME:UTC
DTSTART:20250101T000000
END:STANDARD
END:VTIMEZONE
BEGIN:VEVENT
DTSTART;TZID=UTC:20260818T000000
DTEND;TZID=UTC:20260818T235959
DTSTAMP:20260422T162058
CREATED:20260409T074044Z
LAST-MODIFIED:20260409T074044Z
UID:818-1787011200-1787097599@tuleohutuskoolitused.ee
SUMMARY:Eesti tuletöötegijate koolitus PAIDES (6 akadeemilist tundi)
DESCRIPTION:Praktiline ja teoreetiline koolitus isikutele\, kes töötavad lahtise tulega (keevitamine\, lõikamine jms). Koolitusel käsitletakse kõiki vajalikke teadmisi ja oskusi\, mis tagavad ohutu ja tõhusa töö lahtise tule tingimustes. Koolituse läbimisel väljastatakse tuletöötunnistus. \nKoolituse läbimiseks sooritab koolitatav teadmiste kontrolli. Kontroll koosneb kirjalikust testist. Test on sooritatud juhul\, kui koolitusel osaleja on omandanud minimaalselt vajaliku osa õppekavas kirjeldatud teemadest ja kui kirjaliku testi küsimustele on õigesti vastatud vähemalt 70% ulatuses. Lõpetamisel väljastatakse õppekava läbimist tõendav tuletöötunnistus. \n Koolitus sisaldab: \n\nKohvipaus (kohv/tee\, küpsised)
URL:https://tuleohutuskoolitused.ee/event/eesti-tuletootegijate-koolitus-paides-6-akadeemilist-tundi-2/
LOCATION:PAIDE (täpne aadress saadetakse registreerunutele)
ATTACH;FMTTYPE=image/jpeg:https://tuleohutuskoolitused.ee/wp-content/uploads/2025/08/image-8.jpg
ORGANIZER;CN="Anneli Pukk":MAILTO:a4tuleohutus@gmail.com
END:VEVENT
BEGIN:VEVENT
DTSTART;TZID=UTC:20260826T000000
DTEND;TZID=UTC:20260826T235959
DTSTAMP:20260422T162058
CREATED:20260409T074137Z
LAST-MODIFIED:20260409T074137Z
UID:820-1787702400-1787788799@tuleohutuskoolitused.ee
SUMMARY:Eesti tuletöötegijate koolitus VILJANDIS (6 akadeemilist tundi)
DESCRIPTION:Praktiline ja teoreetiline koolitus isikutele\, kes töötavad lahtise tulega (keevitamine\, lõikamine jms). Koolitusel käsitletakse kõiki vajalikke teadmisi ja oskusi\, mis tagavad ohutu ja tõhusa töö lahtise tule tingimustes. Koolituse läbimisel väljastatakse tuletöötunnistus. \nKoolituse läbimiseks sooritab koolitatav teadmiste kontrolli. Kontroll koosneb kirjalikust testist. Test on sooritatud juhul\, kui koolitusel osaleja on omandanud minimaalselt vajaliku osa õppekavas kirjeldatud teemadest ja kui kirjaliku testi küsimustele on õigesti vastatud vähemalt 70% ulatuses. Lõpetamisel väljastatakse õppekava läbimist tõendav tuletöötunnistus. \n Koolitus sisaldab: \n\nKohvipaus (kohv/tee\, küpsised)
URL:https://tuleohutuskoolitused.ee/event/eesti-tuletootegijate-koolitus-viljandis-6-akadeemilist-tundi-2/
LOCATION:Viljandi (täpne aadress saadetakse registreerunutele)\, Estonia
ATTACH;FMTTYPE=image/jpeg:https://tuleohutuskoolitused.ee/wp-content/uploads/2025/08/welding-67640_1280.jpg
ORGANIZER;CN="Anneli Pukk":MAILTO:a4tuleohutus@gmail.com
END:VEVENT
END:VCALENDAR